BEGIN:VCALENDAR
VERSION:2.0
PRODID:-//Way Out South | Country Rock &amp; Pop Family Acoustic Trio - ECPv6.15.20//NONSGML v1.0//EN
CALSCALE:GREGORIAN
METHOD:PUBLISH
X-WR-CALNAME:Way Out South | Country Rock &amp; Pop Family Acoustic Trio
X-ORIGINAL-URL:https://wayoutsouth.com
X-WR-CALDESC:Events for Way Out South | Country Rock &amp; Pop Family Acoustic Trio
REFRESH-INTERVAL;VALUE=DURATION:PT1H
X-Robots-Tag:noindex
X-PUBLISHED-TTL:PT1H
BEGIN:VTIMEZONE
TZID:America/New_York
BEGIN:DAYLIGHT
TZOFFSETFROM:-0500
TZOFFSETTO:-0400
TZNAME:EDT
DTSTART:20240310T070000
END:DAYLIGHT
BEGIN:STANDARD
TZOFFSETFROM:-0400
TZOFFSETTO:-0500
TZNAME:EST
DTSTART:20241103T060000
END:STANDARD
BEGIN:DAYLIGHT
TZOFFSETFROM:-0500
TZOFFSETTO:-0400
TZNAME:EDT
DTSTART:20250309T070000
END:DAYLIGHT
BEGIN:STANDARD
TZOFFSETFROM:-0400
TZOFFSETTO:-0500
TZNAME:EST
DTSTART:20251102T060000
END:STANDARD
BEGIN:DAYLIGHT
TZOFFSETFROM:-0500
TZOFFSETTO:-0400
TZNAME:EDT
DTSTART:20260308T070000
END:DAYLIGHT
BEGIN:STANDARD
TZOFFSETFROM:-0400
TZOFFSETTO:-0500
TZNAME:EST
DTSTART:20261101T060000
END:STANDARD
END:VTIMEZONE
BEGIN:VEVENT
DTSTART;TZID=America/New_York:20250503T123000
DTEND;TZID=America/New_York:20250503T210000
DTSTAMP:20260421T154022
CREATED:20250501T214750Z
LAST-MODIFIED:20250501T214901Z
UID:400-1746275400-1746306000@wayoutsouth.com
SUMMARY:Rock the Arches Cinco De Mayo
DESCRIPTION:
URL:https://wayoutsouth.com/schedule/rock-the-arches-cinco-de-mayo/
LOCATION:OH
ATTACH;FMTTYPE=image/jpeg:https://wayoutsouth.com/wp-content/uploads/2025/05/487312329_122271229094226593_252114466394229463_n.jpg
END:VEVENT
BEGIN:VEVENT
DTSTART;TZID=America/New_York:20250426T133000
DTEND;TZID=America/New_York:20250426T143000
DTSTAMP:20260421T154022
CREATED:20250401T194838Z
LAST-MODIFIED:20250401T194838Z
UID:397-1745674200-1745677800@wayoutsouth.com
SUMMARY:Wicked Dolphin Distillery
DESCRIPTION:
URL:https://wayoutsouth.com/schedule/wicked-dolphin-distillery/
LOCATION:Wicked Dolphin Distillery\, 131 SW 3rd Pl\, Cape Coral\, 33991\, United States
ATTACH;FMTTYPE=image/webp:https://wayoutsouth.com/wp-content/uploads/2025/04/2024-11-26.webp
END:VEVENT
BEGIN:VEVENT
DTSTART;TZID=America/New_York:20250208T190000
DTEND;TZID=America/New_York:20250208T220000
DTSTAMP:20260421T154022
CREATED:20250207T214330Z
LAST-MODIFIED:20250207T214620Z
UID:380-1739041200-1739052000@wayoutsouth.com
SUMMARY:The Brunch Factory
DESCRIPTION:
URL:https://wayoutsouth.com/schedule/the-bruch-factory/
LOCATION:The Brunch Factory\, 2401 Hancock Bridge Pkwy\, Cape Coral\, 33990\, United States
ATTACH;FMTTYPE=image/png:https://wayoutsouth.com/wp-content/uploads/2025/02/resized_1731194169221.png
END:VEVENT
END:VCALENDAR