BEGIN:VCALENDAR
VERSION:2.0
PRODID:-//Way Out South | Country Rock &amp; Pop Family Acoustic Trio - ECPv6.15.20//NONSGML v1.0//EN
CALSCALE:GREGORIAN
METHOD:PUBLISH
X-WR-CALNAME:Way Out South | Country Rock &amp; Pop Family Acoustic Trio
X-ORIGINAL-URL:https://wayoutsouth.com
X-WR-CALDESC:Events for Way Out South | Country Rock &amp; Pop Family Acoustic Trio
REFRESH-INTERVAL;VALUE=DURATION:PT1H
X-Robots-Tag:noindex
X-PUBLISHED-TTL:PT1H
BEGIN:VTIMEZONE
TZID:America/New_York
BEGIN:DAYLIGHT
TZOFFSETFROM:-0500
TZOFFSETTO:-0400
TZNAME:EDT
DTSTART:20250309T070000
END:DAYLIGHT
BEGIN:STANDARD
TZOFFSETFROM:-0400
TZOFFSETTO:-0500
TZNAME:EST
DTSTART:20251102T060000
END:STANDARD
BEGIN:DAYLIGHT
TZOFFSETFROM:-0500
TZOFFSETTO:-0400
TZNAME:EDT
DTSTART:20260308T070000
END:DAYLIGHT
BEGIN:STANDARD
TZOFFSETFROM:-0400
TZOFFSETTO:-0500
TZNAME:EST
DTSTART:20261101T060000
END:STANDARD
BEGIN:DAYLIGHT
TZOFFSETFROM:-0500
TZOFFSETTO:-0400
TZNAME:EDT
DTSTART:20270314T070000
END:DAYLIGHT
BEGIN:STANDARD
TZOFFSETFROM:-0400
TZOFFSETTO:-0500
TZNAME:EST
DTSTART:20271107T060000
END:STANDARD
END:VTIMEZONE
BEGIN:VEVENT
DTSTART;TZID=America/New_York:20260410T180000
DTEND;TZID=America/New_York:20260410T210000
DTSTAMP:20260421T091916
CREATED:20260303T175426Z
LAST-MODIFIED:20260303T175426Z
UID:446-1775844000-1775854800@wayoutsouth.com
SUMMARY:American Legion Post 136
DESCRIPTION:
URL:https://wayoutsouth.com/schedule/american-legion-post-136-2/
LOCATION:American Legion Post 136\, 4106 Stringfellow Rd\, St James City\, FL\, 33956\, United States
ATTACH;FMTTYPE=image/jpeg:https://wayoutsouth.com/wp-content/uploads/2026/03/IMG_9777.jpg
END:VEVENT
BEGIN:VEVENT
DTSTART;TZID=America/New_York:20260506T170000
DTEND;TZID=America/New_York:20260506T200000
DTSTAMP:20260421T091916
CREATED:20260305T221519Z
LAST-MODIFIED:20260305T221519Z
UID:452-1778086800-1778097600@wayoutsouth.com
SUMMARY:Babcock Ranch
DESCRIPTION:
URL:https://wayoutsouth.com/schedule/babcock-ranch/
LOCATION:Babcock Ranch\, 42850 Crescent Lp\, Punta Gorda\, FL\, 33982\, United States
ATTACH;FMTTYPE=image/jpeg:https://wayoutsouth.com/wp-content/uploads/2026/03/bbbabcock-scaled.jpeg
END:VEVENT
BEGIN:VEVENT
DTSTART;TZID=America/New_York:20260530T200000
DTEND;TZID=America/New_York:20260530T230000
DTSTAMP:20260421T091916
CREATED:20260303T175615Z
LAST-MODIFIED:20260303T175615Z
UID:448-1780171200-1780182000@wayoutsouth.com
SUMMARY:The Dek
DESCRIPTION:
URL:https://wayoutsouth.com/schedule/the-dek-2/
LOCATION:The Dek Bar\, Cape Coral\, Florida
ATTACH;FMTTYPE=image/jpeg:https://wayoutsouth.com/wp-content/uploads/2024/09/full.jpeg
END:VEVENT
BEGIN:VEVENT
DTSTART;TZID=America/New_York:20260613T173000
DTEND;TZID=America/New_York:20260613T203000
DTSTAMP:20260421T091916
CREATED:20260305T222230Z
LAST-MODIFIED:20260305T222230Z
UID:459-1781371800-1781382600@wayoutsouth.com
SUMMARY:Southern Fresh Farms
DESCRIPTION:
URL:https://wayoutsouth.com/schedule/southern-fresh-farms-2/
LOCATION:Southern Fresh Farms\, 8500 Penzance Blvd\, Fort Myers\, 33912\, United States
ATTACH;FMTTYPE=image/webp:https://wayoutsouth.com/wp-content/uploads/2026/03/southern.webp
END:VEVENT
BEGIN:VEVENT
DTSTART;TZID=America/New_York:20260704T140000
DTEND;TZID=America/New_York:20260704T170000
DTSTAMP:20260421T091916
CREATED:20260303T175727Z
LAST-MODIFIED:20260303T175727Z
UID:450-1783173600-1783184400@wayoutsouth.com
SUMMARY:Low Key Tiki
DESCRIPTION:
URL:https://wayoutsouth.com/schedule/low-key-tiki-2/
LOCATION:Low Key Tiki\, 3135 Stringfellow Rd\, Saint James City\, FL\, 33956\, United States
ATTACH;FMTTYPE=image/jpeg:https://wayoutsouth.com/wp-content/uploads/2025/10/558199154_1621460242557831_3116469854225439521_n.jpg
END:VEVENT
BEGIN:VEVENT
DTSTART;TZID=America/New_York:20260731T173000
DTEND;TZID=America/New_York:20260731T203000
DTSTAMP:20260421T091916
CREATED:20260305T222326Z
LAST-MODIFIED:20260305T222326Z
UID:461-1785519000-1785529800@wayoutsouth.com
SUMMARY:Southern Fresh Farms
DESCRIPTION:
URL:https://wayoutsouth.com/schedule/southern-fresh-farms-3/
LOCATION:Southern Fresh Farms\, 8500 Penzance Blvd\, Fort Myers\, 33912\, United States
ATTACH;FMTTYPE=image/webp:https://wayoutsouth.com/wp-content/uploads/2026/03/southern.webp
END:VEVENT
END:VCALENDAR