BEGIN:VCALENDAR
VERSION:2.0
PRODID:-//Way Out South | Country Rock &amp; Pop Family Acoustic Trio - ECPv6.15.20//NONSGML v1.0//EN
CALSCALE:GREGORIAN
METHOD:PUBLISH
X-WR-CALNAME:Way Out South | Country Rock &amp; Pop Family Acoustic Trio
X-ORIGINAL-URL:https://wayoutsouth.com
X-WR-CALDESC:Events for Way Out South | Country Rock &amp; Pop Family Acoustic Trio
REFRESH-INTERVAL;VALUE=DURATION:PT1H
X-Robots-Tag:noindex
X-PUBLISHED-TTL:PT1H
BEGIN:VTIMEZONE
TZID:America/New_York
BEGIN:DAYLIGHT
TZOFFSETFROM:-0500
TZOFFSETTO:-0400
TZNAME:EDT
DTSTART:20240310T070000
END:DAYLIGHT
BEGIN:STANDARD
TZOFFSETFROM:-0400
TZOFFSETTO:-0500
TZNAME:EST
DTSTART:20241103T060000
END:STANDARD
BEGIN:DAYLIGHT
TZOFFSETFROM:-0500
TZOFFSETTO:-0400
TZNAME:EDT
DTSTART:20250309T070000
END:DAYLIGHT
BEGIN:STANDARD
TZOFFSETFROM:-0400
TZOFFSETTO:-0500
TZNAME:EST
DTSTART:20251102T060000
END:STANDARD
BEGIN:DAYLIGHT
TZOFFSETFROM:-0500
TZOFFSETTO:-0400
TZNAME:EDT
DTSTART:20260308T070000
END:DAYLIGHT
BEGIN:STANDARD
TZOFFSETFROM:-0400
TZOFFSETTO:-0500
TZNAME:EST
DTSTART:20261101T060000
END:STANDARD
END:VTIMEZONE
BEGIN:VEVENT
DTSTART;TZID=America/New_York:20251130T140000
DTEND;TZID=America/New_York:20251130T170000
DTSTAMP:20260421T205903
CREATED:20251007T155604Z
LAST-MODIFIED:20251007T155604Z
UID:421-1764511200-1764522000@wayoutsouth.com
SUMMARY:Low Key Tiki
DESCRIPTION:
URL:https://wayoutsouth.com/schedule/low-key-tiki/
LOCATION:Low Key Tiki\, 3135 Stringfellow Rd\, Saint James City\, FL\, 33956\, United States
ATTACH;FMTTYPE=image/jpeg:https://wayoutsouth.com/wp-content/uploads/2025/10/558199154_1621460242557831_3116469854225439521_n.jpg
END:VEVENT
BEGIN:VEVENT
DTSTART;TZID=America/New_York:20251122T190000
DTEND;TZID=America/New_York:20251122T220000
DTSTAMP:20260421T205903
CREATED:20250401T194024Z
LAST-MODIFIED:20251007T154402Z
UID:387-1763838000-1763848800@wayoutsouth.com
SUMMARY:Fins Seafood and Dive Bar
DESCRIPTION:
URL:https://wayoutsouth.com/schedule/fins-seafood-and-dive-bar/
LOCATION:Fins Seafood and Dive Bar\, Cape Coral\, United States
ATTACH;FMTTYPE=image/jpeg:https://wayoutsouth.com/wp-content/uploads/2024/09/fins.jpg
END:VEVENT
BEGIN:VEVENT
DTSTART;TZID=America/New_York:20251024T173000
DTEND;TZID=America/New_York:20251024T203000
DTSTAMP:20260421T205903
CREATED:20251007T154150Z
LAST-MODIFIED:20251007T154150Z
UID:415-1761327000-1761337800@wayoutsouth.com
SUMMARY:Crazy Dingo Brewing Co.
DESCRIPTION:
URL:https://wayoutsouth.com/schedule/crazy-dingo-brewing-co/
LOCATION:Southern Fresh Farms\, 8500 Penzance Blvd\, Fort Myers\, 33912\, United States
ATTACH;FMTTYPE=image/jpeg:https://wayoutsouth.com/wp-content/uploads/2025/10/555639059_18535079251041900_3227911870886846780_n.jpg
END:VEVENT
BEGIN:VEVENT
DTSTART;TZID=America/New_York:20250703T173000
DTEND;TZID=America/New_York:20250703T203000
DTSTAMP:20260421T205903
CREATED:20250703T180957Z
LAST-MODIFIED:20250703T180957Z
UID:411-1751563800-1751574600@wayoutsouth.com
SUMMARY:Jug Creek Marina
DESCRIPTION:
URL:https://wayoutsouth.com/schedule/jug-creek-marina/
ATTACH;FMTTYPE=image/png:https://wayoutsouth.com/wp-content/uploads/2025/07/white-black-modern-live-music-Instagram-Post.png
END:VEVENT
BEGIN:VEVENT
DTSTART;TZID=America/New_York:20250524T200000
DTEND;TZID=America/New_York:20250524T200000
DTSTAMP:20260421T205903
CREATED:20250501T215514Z
LAST-MODIFIED:20250501T215648Z
UID:407-1748116800-1748116800@wayoutsouth.com
SUMMARY:Annual Chive's Grille Show
DESCRIPTION:
URL:https://wayoutsouth.com/schedule/annual-chives-grille-show/
LOCATION:Chives Grille\, Alliance\, OH\, United States
ATTACH;FMTTYPE=image/jpeg:https://wayoutsouth.com/wp-content/uploads/2025/05/61041216_10217141478961737_3878807311732441088_n-e1746136600899.jpg
END:VEVENT
BEGIN:VEVENT
DTSTART;TZID=America/New_York:20250516T220000
DTEND;TZID=America/New_York:20250517T010000
DTSTAMP:20260421T205903
CREATED:20240929T200321Z
LAST-MODIFIED:20250501T215107Z
UID:327-1747432800-1747443600@wayoutsouth.com
SUMMARY:The Dek
DESCRIPTION:
URL:https://wayoutsouth.com/schedule/the-dek/
LOCATION:The Dek Bar\, Cape Coral\, Florida
ATTACH;FMTTYPE=image/jpeg:https://wayoutsouth.com/wp-content/uploads/2024/09/full.jpeg
END:VEVENT
BEGIN:VEVENT
DTSTART;TZID=America/New_York:20250503T123000
DTEND;TZID=America/New_York:20250503T210000
DTSTAMP:20260421T205903
CREATED:20250501T214750Z
LAST-MODIFIED:20250501T214901Z
UID:400-1746275400-1746306000@wayoutsouth.com
SUMMARY:Rock the Arches Cinco De Mayo
DESCRIPTION:
URL:https://wayoutsouth.com/schedule/rock-the-arches-cinco-de-mayo/
ATTACH;FMTTYPE=image/jpeg:https://wayoutsouth.com/wp-content/uploads/2025/05/487312329_122271229094226593_252114466394229463_n.jpg
END:VEVENT
BEGIN:VEVENT
DTSTART;TZID=America/New_York:20250426T133000
DTEND;TZID=America/New_York:20250426T143000
DTSTAMP:20260421T205903
CREATED:20250401T194838Z
LAST-MODIFIED:20250401T194838Z
UID:397-1745674200-1745677800@wayoutsouth.com
SUMMARY:Wicked Dolphin Distillery
DESCRIPTION:
URL:https://wayoutsouth.com/schedule/wicked-dolphin-distillery/
LOCATION:Wicked Dolphin Distillery\, 131 SW 3rd Pl\, Cape Coral\, 33991\, United States
ATTACH;FMTTYPE=image/webp:https://wayoutsouth.com/wp-content/uploads/2025/04/2024-11-26.webp
END:VEVENT
BEGIN:VEVENT
DTSTART;TZID=America/New_York:20250208T190000
DTEND;TZID=America/New_York:20250208T220000
DTSTAMP:20260421T205903
CREATED:20250207T214330Z
LAST-MODIFIED:20250207T214620Z
UID:380-1739041200-1739052000@wayoutsouth.com
SUMMARY:The Brunch Factory
DESCRIPTION:
URL:https://wayoutsouth.com/schedule/the-bruch-factory/
LOCATION:The Brunch Factory\, 2401 Hancock Bridge Pkwy\, Cape Coral\, 33990\, United States
ATTACH;FMTTYPE=image/png:https://wayoutsouth.com/wp-content/uploads/2025/02/resized_1731194169221.png
END:VEVENT
END:VCALENDAR